BEGIN:VCALENDAR
VERSION:2.0
PRODID:-//hacksw/handcal//NONSGML v1.0//EN
BEGIN:VEVENT
SUMMARY:finale comite interclu D3
UID:8197c74a-65a1-4090-bd5f-587b159df656
DTSTART:20260404T220000Z
DTEND:20260405T220000Z
LOCATION:Localisation   
CATEGORIES:Sportif
STATUS:
URL;VALUE=URI:https://www.azurbridge.com/evenements/2026/04/05/finale-comite-interclu-d3-2438520
END:VEVENT
END:VCALENDAR
