BEGIN:VCALENDAR
VERSION:2.0
PRODID:-//hacksw/handcal//NONSGML v1.0//EN
BEGIN:VEVENT
SUMMARY:Trophe de France
UID:d6f23706-c9f9-4d1d-9b4a-fec8827fc15d
DTSTART:20260417T220000Z
DTEND:20260419T220000Z
LOCATION:Localisation   
CATEGORIES:Sportif
STATUS:
URL;VALUE=URI:https://www.azurbridge.com/evenements/2026/04/18/trophe-de-france-2312913
END:VEVENT
END:VCALENDAR
